BEGIN:VCALENDAR
VERSION:2.0
PRODID:-//CURE100 - ECPv6.1.2.2//NONSGML v1.0//EN
CALSCALE:GREGORIAN
METHOD:PUBLISH
X-WR-CALNAME:CURE100
X-ORIGINAL-URL:https://cure100.org
X-WR-CALDESC:Events for CURE100
REFRESH-INTERVAL;VALUE=DURATION:PT1H
X-Robots-Tag:noindex
X-PUBLISHED-TTL:PT1H
BEGIN:VTIMEZONE
TZID:America/New_York
BEGIN:DAYLIGHT
TZOFFSETFROM:-0500
TZOFFSETTO:-0400
TZNAME:EDT
DTSTART:20240310T070000
END:DAYLIGHT
BEGIN:STANDARD
TZOFFSETFROM:-0400
TZOFFSETTO:-0500
TZNAME:EST
DTSTART:20241103T060000
END:STANDARD
END:VTIMEZONE
BEGIN:VEVENT
DTSTART;TZID=America/New_York:20241209T183000
DTEND;TZID=America/New_York:20241209T193000
DTSTAMP:20260422T143324
CREATED:20221209T203326Z
LAST-MODIFIED:20230126T231626Z
UID:6631-1733769000-1733772600@cure100.org
SUMMARY:Y100 Working Meeting - Use Zoom info below
DESCRIPTION:Join Zoom Meeting: \nhttps://us02web.zoom.us/j/86571591197?pwd=dzJyeXhDcWtmRVk1OVovOGE4N0kzdz09 \nMeeting ID: 865 7159 1197 \nPasscode: Y100P \nOne tap mobile \n+16468769923\,\,86571591197#\,\,\,\,*572254# US (New York) \nDial by your location \n        +1 646 876 9923 US (New York) \nJoin with Google Meet: https://meet.google.com/ebd-syaq-dnd\nLearn more about Meet at: https://support.google.com/a/users/answer/9282720
URL:https://cure100.org/event/y100-working-meeting-use-zoom-info-below-56/
LOCATION:NY
ORGANIZER;CN="yorktowncarbonzero%40gmail.com":MAILTO:yorktowncarbonzero@gmail.com
END:VEVENT
BEGIN:VEVENT
DTSTART;TZID=America/New_York:20241209T183000
DTEND;TZID=America/New_York:20241209T193000
DTSTAMP:20260422T143324
CREATED:20230127T231434Z
LAST-MODIFIED:20231023T172946Z
UID:6813-1733769000-1733772600@cure100.org
SUMMARY:Y100 Working Meeting - Use Zoom info below
DESCRIPTION:Join Zoom Meeting: \nhttps://us02web.zoom.us/j/86571591197?pwd=dzJyeXhDcWtmRVk1OVovOGE4N0kzdz09 \nMeeting ID: 865 7159 1197 \nPasscode: Y100P \nOne tap mobile \n+16468769923\,\,86571591197#\,\,\,\,*572254# US (New York) \nDial by your location \n        +1 646 876 9923 US (New York) \nJoin with Google Meet: https://meet.google.com/ebd-syaq-dnd\nLearn more about Meet at: https://support.google.com/a/users/answer/9282720
URL:https://cure100.org/event/y100-working-meeting-use-zoom-info-below-118/
LOCATION:NY
ORGANIZER;CN="yorktowncarbonzero%40gmail.com":MAILTO:yorktowncarbonzero@gmail.com
END:VEVENT
BEGIN:VEVENT
DTSTART;TZID=America/New_York:20241209T183000
DTEND;TZID=America/New_York:20241209T193000
DTSTAMP:20260422T143324
CREATED:20231024T173135Z
LAST-MODIFIED:20240406T184451Z
UID:11603-1733769000-1733772600@cure100.org
SUMMARY:Y100 Working Meeting - Use Zoom info below
DESCRIPTION:Join Zoom Meeting: \nhttps://us02web.zoom.us/j/86571591197?pwd=dzJyeXhDcWtmRVk1OVovOGE4N0kzdz09 \nMeeting ID: 865 7159 1197 \nPasscode: Y100P \nOne tap mobile \n+16468769923\,\,86571591197#\,\,\,\,*572254# US (New York) \nDial by your location \n        +1 646 876 9923 US (New York) \nJoin with Google Meet: https://meet.google.com/ebd-syaq-dnd\nLearn more about Meet at: https://support.google.com/a/users/answer/9282720
URL:https://cure100.org/event/y100-working-meeting-use-zoom-info-below-147/
LOCATION:NY
ORGANIZER;CN="yorktowncarbonzero%40gmail.com":MAILTO:yorktowncarbonzero@gmail.com
END:VEVENT
BEGIN:VEVENT
DTSTART;TZID=America/New_York:20241209T183000
DTEND;TZID=America/New_York:20241209T193000
DTSTAMP:20260422T143324
CREATED:20240407T184529Z
LAST-MODIFIED:20240429T203012Z
UID:16098-1733769000-1733772600@cure100.org
SUMMARY:Y100 Working Meeting - Use Zoom info below
DESCRIPTION:Join Zoom Meeting: \nhttps://us02web.zoom.us/j/86571591197?pwd=dzJyeXhDcWtmRVk1OVovOGE4N0kzdz09 \nMeeting ID: 865 7159 1197 \nPasscode: Y100P \nOne tap mobile \n+16468769923\,\,86571591197#\,\,\,\,*572254# US (New York) \nDial by your location \n        +1 646 876 9923 US (New York) \nJoin with Google Meet: https://meet.google.com/ebd-syaq-dnd\nLearn more about Meet at: https://support.google.com/a/users/answer/9282720
URL:https://cure100.org/event/y100-working-meeting-use-zoom-info-below-176/
LOCATION:NY
ORGANIZER;CN="yorktowncarbonzero%40gmail.com":MAILTO:yorktowncarbonzero@gmail.com
END:VEVENT
BEGIN:VEVENT
DTSTART;TZID=America/New_York:20241209T183000
DTEND;TZID=America/New_York:20241209T193000
DTSTAMP:20260422T143324
CREATED:20240430T204422Z
LAST-MODIFIED:20240908T225905Z
UID:16721-1733769000-1733772600@cure100.org
SUMMARY:Y100 Working Meeting - Use Zoom info below
DESCRIPTION:Join Zoom Meeting: \nhttps://us02web.zoom.us/j/86571591197?pwd=dzJyeXhDcWtmRVk1OVovOGE4N0kzdz09 \nMeeting ID: 865 7159 1197 \nPasscode: Y100P \nOne tap mobile \n+16468769923\,\,86571591197#\,\,\,\,*572254# US (New York) \nDial by your location \n        +1 646 876 9923 US (New York) \nJoin with Google Meet: https://meet.google.com/ebd-syaq-dnd\nLearn more about Meet at: https://support.google.com/a/users/answer/9282720
URL:https://cure100.org/event/y100-working-meeting-use-zoom-info-below-203/
LOCATION:NY
ORGANIZER;CN="yorktowncarbonzero%40gmail.com":MAILTO:yorktowncarbonzero@gmail.com
END:VEVENT
BEGIN:VEVENT
DTSTART;TZID=America/New_York:20241209T183000
DTEND;TZID=America/New_York:20241209T193000
DTSTAMP:20260422T143324
CREATED:20240909T225913Z
LAST-MODIFIED:20241209T184401Z
UID:20537-1733769000-1733772600@cure100.org
SUMMARY:Y100 Working Meeting - Use Zoom info below
DESCRIPTION:Join Zoom Meeting: \nhttps://us02web.zoom.us/j/86571591197?pwd=dzJyeXhDcWtmRVk1OVovOGE4N0kzdz09 \nMeeting ID: 865 7159 1197 \nPasscode: Y100P \nOne tap mobile \n+16468769923\,\,86571591197#\,\,\,\,*572254# US (New York) \nDial by your location \n        +1 646 876 9923 US (New York) \nJoin with Google Meet: https://meet.google.com/ebd-syaq-dnd\nLearn more about Meet at: https://support.google.com/a/users/answer/9282720
URL:https://cure100.org/event/y100-working-meeting-use-zoom-info-below-287/
LOCATION:NY
ORGANIZER;CN="yorktowncarbonzero%40gmail.com":MAILTO:yorktowncarbonzero@gmail.com
END:VEVENT
BEGIN:VEVENT
DTSTART;TZID=America/New_York:20241209T183000
DTEND;TZID=America/New_York:20241209T193000
DTSTAMP:20260422T143324
CREATED:20240909T225913Z
LAST-MODIFIED:20240909T225913Z
UID:20538-1733769000-1733772600@cure100.org
SUMMARY:Y100 Working Meeting - Use Zoom info below
DESCRIPTION:Join Zoom Meeting: \nhttps://us02web.zoom.us/j/86571591197?pwd=dzJyeXhDcWtmRVk1OVovOGE4N0kzdz09 \nMeeting ID: 865 7159 1197 \nPasscode: Y100P \nOne tap mobile \n+16468769923\,\,86571591197#\,\,\,\,*572254# US (New York) \nDial by your location \n        +1 646 876 9923 US (New York) \nJoin with Google Meet: https://meet.google.com/ebd-syaq-dnd\nLearn more about Meet at: https://support.google.com/a/users/answer/9282720
URL:https://cure100.org/event/y100-working-meeting-use-zoom-info-below-288/
LOCATION:NY
ORGANIZER;CN="yorktowncarbonzero%40gmail.com":MAILTO:yorktowncarbonzero@gmail.com
END:VEVENT
END:VCALENDAR